BEGIN:VCALENDAR
VERSION:2.0
PRODID:-//Realschule Dreiländereck - ECPv6.15.20//NONSGML v1.0//EN
CALSCALE:GREGORIAN
METHOD:PUBLISH
X-ORIGINAL-URL:https://www.rs-weil.de
X-WR-CALDESC:Veranstaltungen für Realschule Dreiländereck
REFRESH-INTERVAL;VALUE=DURATION:PT1H
X-Robots-Tag:noindex
X-PUBLISHED-TTL:PT1H
BEGIN:VTIMEZONE
TZID:Europe/Berlin
BEGIN:DAYLIGHT
TZOFFSETFROM:+0100
TZOFFSETTO:+0200
TZNAME:CEST
DTSTART:20250330T010000
END:DAYLIGHT
BEGIN:STANDARD
TZOFFSETFROM:+0200
TZOFFSETTO:+0100
TZNAME:CET
DTSTART:20251026T010000
END:STANDARD
BEGIN:DAYLIGHT
TZOFFSETFROM:+0100
TZOFFSETTO:+0200
TZNAME:CEST
DTSTART:20260329T010000
END:DAYLIGHT
BEGIN:STANDARD
TZOFFSETFROM:+0200
TZOFFSETTO:+0100
TZNAME:CET
DTSTART:20261025T010000
END:STANDARD
BEGIN:DAYLIGHT
TZOFFSETFROM:+0100
TZOFFSETTO:+0200
TZNAME:CEST
DTSTART:20270328T010000
END:DAYLIGHT
BEGIN:STANDARD
TZOFFSETFROM:+0200
TZOFFSETTO:+0100
TZNAME:CET
DTSTART:20271031T010000
END:STANDARD
END:VTIMEZONE
BEGIN:VEVENT
DTSTART;VALUE=DATE:20260508
DTEND;VALUE=DATE:20260509
DTSTAMP:20260423T104959
CREATED:20220905T083400Z
LAST-MODIFIED:20250927T085036Z
UID:1580-1778198400-1778284799@www.rs-weil.de
SUMMARY:Abschlussprüfung Deutsch
DESCRIPTION:Hauptsschul- und Realschulabschlussprüfung
URL:https://www.rs-weil.de/termin/abschlusspruefung-deutsch/
LOCATION:Realschule Dreiländereck\, Egerstr. 3\, Weil am Rhein\, 79576
END:VEVENT
BEGIN:VEVENT
DTSTART;VALUE=DATE:20260512
DTEND;VALUE=DATE:20260513
DTSTAMP:20260423T104959
CREATED:20220905T083457Z
LAST-MODIFIED:20250927T084957Z
UID:1584-1778544000-1778630399@www.rs-weil.de
SUMMARY:Abschlussprüfung Mathematik
DESCRIPTION:Hauptsschul- und Realschulabschlussprüfung
URL:https://www.rs-weil.de/termin/abschlusspruefung-mathematik/
LOCATION:Realschule Dreiländereck\, Egerstr. 3\, Weil am Rhein\, 79576
END:VEVENT
BEGIN:VEVENT
DTSTART;VALUE=DATE:20260515
DTEND;VALUE=DATE:20260516
DTSTAMP:20260423T104959
CREATED:20250401T073745Z
LAST-MODIFIED:20250401T073745Z
UID:4893-1778803200-1778889599@www.rs-weil.de
SUMMARY:Brückentag
DESCRIPTION:
URL:https://www.rs-weil.de/termin/brueckentag-5/
END:VEVENT
BEGIN:VEVENT
DTSTART;VALUE=DATE:20260519
DTEND;VALUE=DATE:20260520
DTSTAMP:20260423T104959
CREATED:20220905T083432Z
LAST-MODIFIED:20250927T085017Z
UID:1582-1779148800-1779235199@www.rs-weil.de
SUMMARY:Abschlussprüfung Englisch
DESCRIPTION:Hauptsschul- und Realschulabschlussprüfung
URL:https://www.rs-weil.de/termin/abschlusspruefung-englisch/
LOCATION:Realschule Dreiländereck\, Egerstr. 3\, Weil am Rhein\, 79576
END:VEVENT
BEGIN:VEVENT
DTSTART;VALUE=DATE:20260521
DTEND;VALUE=DATE:20260522
DTSTAMP:20260423T104959
CREATED:20220905T083523Z
LAST-MODIFIED:20250927T084935Z
UID:1586-1779321600-1779407999@www.rs-weil.de
SUMMARY:Abschlussprüfung Wahlpflichtfach
DESCRIPTION:Hauptsschul- und Realschulabschlussprüfung
URL:https://www.rs-weil.de/termin/abschlusspruefung-wahlpflichtfach/
LOCATION:Realschule Dreiländereck\, Egerstr. 3\, Weil am Rhein\, 79576
END:VEVENT
BEGIN:VEVENT
DTSTART;VALUE=DATE:20260525
DTEND;VALUE=DATE:20260607
DTSTAMP:20260423T104959
CREATED:20250401T073817Z
LAST-MODIFIED:20250401T073817Z
UID:4896-1779667200-1780790399@www.rs-weil.de
SUMMARY:Pfingstferien 2026
DESCRIPTION:
URL:https://www.rs-weil.de/termin/pfingstferien-2026/
END:VEVENT
BEGIN:VEVENT
DTSTART;VALUE=DATE:20260706
DTEND;VALUE=DATE:20260708
DTSTAMP:20260423T104959
CREATED:20220411T123207Z
LAST-MODIFIED:20250927T085910Z
UID:1330-1783296000-1783468799@www.rs-weil.de
SUMMARY:Mündliche Prüfungen
DESCRIPTION:Haupt- und Realschulabschluss
URL:https://www.rs-weil.de/termin/muendliche-pruefungen/
LOCATION:Realschule Dreiländereck\, Egerstr. 3\, Weil am Rhein\, 79576
END:VEVENT
BEGIN:VEVENT
DTSTART;VALUE=DATE:20260717
DTEND;VALUE=DATE:20260718
DTSTAMP:20260423T104959
CREATED:20220905T083659Z
LAST-MODIFIED:20250927T084858Z
UID:1588-1784246400-1784332799@www.rs-weil.de
SUMMARY:Abschlussfeier
DESCRIPTION:Hauptsschul- und Realschulabschlussprüfung
URL:https://www.rs-weil.de/termin/abschlussfeier-2/
LOCATION:Realschule Dreiländereck\, Egerstr. 3\, Weil am Rhein\, 79576
END:VEVENT
BEGIN:VEVENT
DTSTART;VALUE=DATE:20260729
DTEND;VALUE=DATE:20260730
DTSTAMP:20260423T104959
CREATED:20220905T083746Z
LAST-MODIFIED:20250927T084826Z
UID:1590-1785283200-1785369599@www.rs-weil.de
SUMMARY:Ausgabe der Zeugnisse
DESCRIPTION:Der Unterricht endet nach der 4. Stunde
URL:https://www.rs-weil.de/termin/ausgabe-der-zeugnisse-2/
LOCATION:Realschule Dreiländereck\, Egerstr. 3\, Weil am Rhein\, 79576
END:VEVENT
BEGIN:VEVENT
DTSTART;VALUE=DATE:20260730
DTEND;VALUE=DATE:20261213
DTSTAMP:20260423T104959
CREATED:20250401T073902Z
LAST-MODIFIED:20260126T055503Z
UID:4899-1785369600-1797119999@www.rs-weil.de
SUMMARY:Sommerferien 2026
DESCRIPTION:
URL:https://www.rs-weil.de/termin/sommerferien-2026/
END:VEVENT
END:VCALENDAR